BEGIN:VCALENDAR
VERSION:2.0
PRODID:-//INCOSE - ECPv6.15.11//NONSGML v1.0//EN
CALSCALE:GREGORIAN
METHOD:PUBLISH
X-WR-CALNAME:INCOSE
X-ORIGINAL-URL:https://www.incose.org.ar
X-WR-CALDESC:Eventos para INCOSE
REFRESH-INTERVAL;VALUE=DURATION:PT1H
X-Robots-Tag:noindex
X-PUBLISHED-TTL:PT1H
BEGIN:VTIMEZONE
TZID:America/Argentina/Buenos_Aires
BEGIN:STANDARD
TZOFFSETFROM:-0300
TZOFFSETTO:-0300
TZNAME:-03
DTSTART:20240101T000000
END:STANDARD
END:VTIMEZONE
BEGIN:VEVENT
DTSTART;TZID=America/Argentina/Buenos_Aires:20250517T083000
DTEND;TZID=America/Argentina/Buenos_Aires:20251025T123000
DTSTAMP:20260421T163554
CREATED:20250212T160845Z
LAST-MODIFIED:20250212T160847Z
UID:4935-1747470600-1761395400@www.incose.org.ar
SUMMARY:TALLER STEEL FRAMING - INICIO 17 DE MAYO
DESCRIPTION:Este taller es un complemento ideal para aquellos alumnos que realicen el curso “Teoría de la Construcción de Viviendas en Acero”. \n\n\n\nLograr que los participantes desarrollen:\n\n\n\n-Habilidades prácticas en la Construcción en Seco.-Habilidades prácticas en la construcción en Steel Framing. \n\n\n\nIMPORTANTE: Se trata de una capacitación abierta a la comunidad general\, no se requiere ser profesional o título de grado para cursar. \n\n\n\nDocentes:Los profesores para las clases prácticas sobre los sistemas constructivos serán designados por el INCOSE (INSTITUTO CONSTRUCCIÓN EN SECO)\, entre los profesionales que dictan módulos similares en sus respectivas empresas\, con gran trayectoria y experiencia práctica de ambos sistemas. \n\n\n\nCondiciones para la cursada:El curso se desarrollará desde mayo a octubre 2024.Los días de cursada serán los sábados que se indican al final.Los materiales utilizados en la práctica están incluidos en el costo del programa\, a excepción de los elementos personales de seguridad y trabajo. \n\n\n\nCondiciones para la aprobaciónAsistencia al 75% de las clases. \n\n\n\nContenidos del curso: Cursada “presencial” durante 18 sábados desde las 8.30 hasta las 12.30. \n\n\n\nSe realizarán en el Centro de Capacitación y Formación Profesional de la Fundación UOCRA Nro. 37\, ubicado en la calle Pedro Chutro 3003 de la Ciudad Autónoma de Buenos Aires. \n\n\n\nLos participantes realizarán una construcción a escala real\, con materiales y herramientas apropiadas sobre un prototipo de vivienda determinado previamente en los planos. Se trata de construir una pequeña unidad habitacional. Todos los materiales para la construcción y las herramientas serán provistas por la organización\, a excepción de los elementos de seguridad y propios de trabajo que deberán traer los participantes. \n\n\n\nLa conducción de las prácticas estarán a cargo de un profesional experto en los sistemas\, que transmitirá a los asistentes las modalidades\, prácticas comunes y defectos que pueden encontrarse en la realización de una obra. \n\n\n\nRequisitosPoseer conocimientos teóricos sobre el sistema. Preferentemente estar realizando o haber realizado alguno de los cursos teóricos de UCA-INCOSE. \n\n\n\nElementos de seguridad obligatorios para concurrir a las clases:Casco\, zapatos cerrados\, guantes\, antiparras\, protector auditivo\, ropa cómoda y de trabajo. \n\n\n\nElementos de trabajo propios necesarios para concurrir a las clases:Marcador de fibra\, cinta métrica flexible de 5 metros mínimo\,cinturón porta-herramientas\, trincheta\, cuaderno. \n\n\n\nAranceles: ÚNICAMENTE por mail a eit@uca.edu.ar \n\n\n\nInformes: eit@uca.edu.ar / info@incose.org.ar \n\n\n\nInscripción y más info: https://bit.ly/42Zvj50
URL:https://www.incose.org.ar/capacitacion/taller-steel-framing-inicio-17-de-mayo/
ATTACH;FMTTYPE=image/png:https://www.incose.org.ar/wp-content/uploads/2025/02/FLYER-taller.steel_.2025.png
ORGANIZER;CN="INCOSE-UCA":MAILTO:eit@uca.edu.ar
END:VEVENT
END:VCALENDAR